BEGIN:VCALENDAR
VERSION:2.0
PRODID:-//Hātea Run - ECPv6.15.20//NONSGML v1.0//EN
CALSCALE:GREGORIAN
METHOD:PUBLISH
X-ORIGINAL-URL:https://hatea.run
X-WR-CALDESC:Events for Hātea Run
REFRESH-INTERVAL;VALUE=DURATION:PT1H
X-Robots-Tag:noindex
X-PUBLISHED-TTL:PT1H
BEGIN:VTIMEZONE
TZID:Pacific/Auckland
BEGIN:STANDARD
TZOFFSETFROM:+1300
TZOFFSETTO:+1200
TZNAME:NZST
DTSTART:20240406T140000
END:STANDARD
BEGIN:DAYLIGHT
TZOFFSETFROM:+1200
TZOFFSETTO:+1300
TZNAME:NZDT
DTSTART:20240928T140000
END:DAYLIGHT
BEGIN:STANDARD
TZOFFSETFROM:+1300
TZOFFSETTO:+1200
TZNAME:NZST
DTSTART:20250405T140000
END:STANDARD
BEGIN:DAYLIGHT
TZOFFSETFROM:+1200
TZOFFSETTO:+1300
TZNAME:NZDT
DTSTART:20250927T140000
END:DAYLIGHT
BEGIN:STANDARD
TZOFFSETFROM:+1300
TZOFFSETTO:+1200
TZNAME:NZST
DTSTART:20260404T140000
END:STANDARD
BEGIN:DAYLIGHT
TZOFFSETFROM:+1200
TZOFFSETTO:+1300
TZNAME:NZDT
DTSTART:20260926T140000
END:DAYLIGHT
END:VTIMEZONE
BEGIN:VEVENT
DTSTART;TZID=Pacific/Auckland:20251214T060000
DTEND;TZID=Pacific/Auckland:20251214T210000
DTSTAMP:20260425T042248
CREATED:20251117T080331Z
LAST-MODIFIED:20251130T060301Z
UID:2958-1765692000-1765746000@hatea.run
SUMMARY:Hatea Summer Solstice 2025
DESCRIPTION:The Hatea Summer Solstice is back! \nJoin us for one of Hatea’s most loved events and celebrate the longest day with friends\, fitness\, and plenty of fun. \nChoose your challenge: run a 6.7km\, 5km or 3km lap on the hour\, every hour from 6am to 8pm. No cutoffs\, no pressure — just start each lap with the group on the hour. Want to skip an hour\, take a breather\, or sleep in and join later? Go for it. This day is all about community\, conversation\, and clocking up the kilometres together. \nBring your snacks\, hydration\, and good vibes as you push toward new personal distances. \n🎟 Entry: \n\n\nFree for Hatea members \n\n\n$20 koha for non-members \n\n\nSign up is on the day.\nCome for one lap or stay for the whole day — the Summer Solstice is whatever you make it. See you at sunrise! \n  \n 
URL:https://hatea.run/event/hatea-summer-solstice-2026/
LOCATION:Tikipunga Sports Park\, 48 Reed Street\, Tikipunga\, Northland\, 0110\, New Zealand
END:VEVENT
END:VCALENDAR