BEGIN:VCALENDAR
VERSION:2.0
PRODID:-//Hātea Run - ECPv6.15.20//NONSGML v1.0//EN
CALSCALE:GREGORIAN
METHOD:PUBLISH
X-WR-CALNAME:Hātea Run
X-ORIGINAL-URL:https://hatea.run
X-WR-CALDESC:Events for Hātea Run
REFRESH-INTERVAL;VALUE=DURATION:PT1H
X-Robots-Tag:noindex
X-PUBLISHED-TTL:PT1H
BEGIN:VTIMEZONE
TZID:Pacific/Auckland
BEGIN:STANDARD
TZOFFSETFROM:+1300
TZOFFSETTO:+1200
TZNAME:NZST
DTSTART:20240406T140000
END:STANDARD
BEGIN:DAYLIGHT
TZOFFSETFROM:+1200
TZOFFSETTO:+1300
TZNAME:NZDT
DTSTART:20240928T140000
END:DAYLIGHT
BEGIN:STANDARD
TZOFFSETFROM:+1300
TZOFFSETTO:+1200
TZNAME:NZST
DTSTART:20250405T140000
END:STANDARD
BEGIN:DAYLIGHT
TZOFFSETFROM:+1200
TZOFFSETTO:+1300
TZNAME:NZDT
DTSTART:20250927T140000
END:DAYLIGHT
BEGIN:STANDARD
TZOFFSETFROM:+1300
TZOFFSETTO:+1200
TZNAME:NZST
DTSTART:20260404T140000
END:STANDARD
BEGIN:DAYLIGHT
TZOFFSETFROM:+1200
TZOFFSETTO:+1300
TZNAME:NZDT
DTSTART:20260926T140000
END:DAYLIGHT
END:VTIMEZONE
BEGIN:VEVENT
DTSTART;TZID=Pacific/Auckland:20250727T073000
DTEND;TZID=Pacific/Auckland:20250727T120000
DTSTAMP:20260424T122554
CREATED:20250630T082654Z
LAST-MODIFIED:20250630T194158Z
UID:2858-1753601400-1753617600@hatea.run
SUMMARY:July Last Sunday of the Month Run - Whananaki Coastal Trail
DESCRIPTION:After the success of the Mangawhai cliff top run this time we’re off to the Whananaki Coastal Trail! We are running an out and back course from Sandy Bay towards Whananaki along the Whananaki Walkway. \nWhen & Where?\nLast Sunday of the Month Run – Whananaki Coastal TrailDate: Sunday 27th July 2025Carpooling: meet at Kensington Park Carpark (Northern end) 7.15am for a 7.30am departureMeet: @ Sandy Bay Carpark 1315 Matapouri RoadEstimated Start 8.30amDistance: 19km\, since its an out and back course\, you can run as far or as little as you want.Wear trail shoes\, pack a jacket\, and bring some fluids.Post run feed: TBD \nMore info on the trail can be found here: https://www.wdc.govt.nz/Community/Parks-and-recreation/Parks-and-reserves/Whananaki \n \nWhananaki Walkway Course\nSince it’s an out and back course\, you can run as far or as little as you want. We will likely head out and form groups based on our pace. \nDistance: 19kmElevation Gain: ~450m \n \nPost Run Coffee\nTo be determined but Salt Air Cafe in Ngunguru has been reccomended.
URL:https://hatea.run/event/whananakitrail/
LOCATION:Sandy Bay\, 1315 Matapouri Road\, Northland\, 0173\, New Zealand
CATEGORIES:Standalone Hatea Events
END:VEVENT
END:VCALENDAR