BEGIN:VCALENDAR
VERSION:2.0
PRODID:-//Hātea Run - ECPv6.15.20//NONSGML v1.0//EN
CALSCALE:GREGORIAN
METHOD:PUBLISH
X-WR-CALNAME:Hātea Run
X-ORIGINAL-URL:https://hatea.run
X-WR-CALDESC:Events for Hātea Run
REFRESH-INTERVAL;VALUE=DURATION:PT1H
X-Robots-Tag:noindex
X-PUBLISHED-TTL:PT1H
BEGIN:VTIMEZONE
TZID:Pacific/Auckland
BEGIN:STANDARD
TZOFFSETFROM:+1300
TZOFFSETTO:+1200
TZNAME:NZST
DTSTART:20240406T140000
END:STANDARD
BEGIN:DAYLIGHT
TZOFFSETFROM:+1200
TZOFFSETTO:+1300
TZNAME:NZDT
DTSTART:20240928T140000
END:DAYLIGHT
BEGIN:STANDARD
TZOFFSETFROM:+1300
TZOFFSETTO:+1200
TZNAME:NZST
DTSTART:20250405T140000
END:STANDARD
BEGIN:DAYLIGHT
TZOFFSETFROM:+1200
TZOFFSETTO:+1300
TZNAME:NZDT
DTSTART:20250927T140000
END:DAYLIGHT
BEGIN:STANDARD
TZOFFSETFROM:+1300
TZOFFSETTO:+1200
TZNAME:NZST
DTSTART:20260404T140000
END:STANDARD
BEGIN:DAYLIGHT
TZOFFSETFROM:+1200
TZOFFSETTO:+1300
TZNAME:NZDT
DTSTART:20260926T140000
END:DAYLIGHT
END:VTIMEZONE
BEGIN:VEVENT
DTSTART;TZID=Pacific/Auckland:20250831T090000
DTEND;TZID=Pacific/Auckland:20250831T110000
DTSTAMP:20260424T105736
CREATED:20250804T082900Z
LAST-MODIFIED:20250804T082900Z
UID:2909-1756630800-1756638000@hatea.run
SUMMARY:Last Sunday of the Month Run – Kerikeri River Trail
DESCRIPTION:Last month members enjoyed the wonderful trail along the Whananaki coast. So naturally we are heading even further north this month! \nThis away run we are very privileged to be joining with Reset Run Club in Kerikeri to explore their beautiful local trails. Join us and run some new trails with some new friends! \n Date: Sunday\, 31st August \n Carpooling: Meet at Kensington Park Carpark (northern end) at 7:00am for a 7:15am departure \n Trailhead Meeting Point: Kororipo Heritage Park\, Landing Road\, Kerikeri 0230 \n Estimated Run Start: 9:00am \n Distances: 8km out-and-back to Rainbow Falls or a 14km. \n Post-run feed: The Honey House Cafe
URL:https://hatea.run/event/last-sunday-of-the-month-run-kerikeri-river-trail/
LOCATION:Kororipo Heritage Park\, Landing Road\, Kerikeri 0230\, Kororipo Heritage Park\, Landing Road\,\, Kerikeri\, 0230\, New Zealand
CATEGORIES:Standalone Hatea Events
END:VEVENT
END:VCALENDAR