BEGIN:VCALENDAR
VERSION:2.0
PRODID:-//Hātea Run - ECPv6.15.20//NONSGML v1.0//EN
CALSCALE:GREGORIAN
METHOD:PUBLISH
X-WR-CALNAME:Hātea Run
X-ORIGINAL-URL:https://hatea.run
X-WR-CALDESC:Events for Hātea Run
REFRESH-INTERVAL;VALUE=DURATION:PT1H
X-Robots-Tag:noindex
X-PUBLISHED-TTL:PT1H
BEGIN:VTIMEZONE
TZID:Pacific/Auckland
BEGIN:STANDARD
TZOFFSETFROM:+1300
TZOFFSETTO:+1200
TZNAME:NZST
DTSTART:20250405T140000
END:STANDARD
BEGIN:DAYLIGHT
TZOFFSETFROM:+1200
TZOFFSETTO:+1300
TZNAME:NZDT
DTSTART:20250927T140000
END:DAYLIGHT
BEGIN:STANDARD
TZOFFSETFROM:+1300
TZOFFSETTO:+1200
TZNAME:NZST
DTSTART:20260404T140000
END:STANDARD
BEGIN:DAYLIGHT
TZOFFSETFROM:+1200
TZOFFSETTO:+1300
TZNAME:NZDT
DTSTART:20260926T140000
END:DAYLIGHT
BEGIN:STANDARD
TZOFFSETFROM:+1300
TZOFFSETTO:+1200
TZNAME:NZST
DTSTART:20270403T140000
END:STANDARD
BEGIN:DAYLIGHT
TZOFFSETFROM:+1200
TZOFFSETTO:+1300
TZNAME:NZDT
DTSTART:20270925T140000
END:DAYLIGHT
END:VTIMEZONE
BEGIN:VEVENT
DTSTART;TZID=Pacific/Auckland:20260218T173000
DTEND;TZID=Pacific/Auckland:20260218T190000
DTSTAMP:20260421T000125
CREATED:20260212T075953Z
LAST-MODIFIED:20260212T080814Z
UID:2981-1771435800-1771441200@hatea.run
SUMMARY:Summer Grand Prix Series Race #2
DESCRIPTION:Race 2 of the Summer Grand Prix Series \nCome along and run or race the 2nd event of the Grand Prix 5K Series for the year. This is a 5 week series with points accumulated per week and trophies at the end of the series awarded to the highest scores. \nFree for Hatea members. \n5$ Koha for non members \nRace start time: 6:00pm\nRegistration from 5:30pm
URL:https://hatea.run/event/summer-grand-prix-series-race-2/
LOCATION:Tikipunga Sports Park\, 48 Reed Street\, Tikipunga\, Northland\, 0110\, New Zealand
CATEGORIES:Hatea Grand Prix,Standalone Hatea Events
END:VEVENT
BEGIN:VEVENT
DTSTART;TZID=Pacific/Auckland:20260222T083000
DTEND;TZID=Pacific/Auckland:20260222T093000
DTSTAMP:20260421T000125
CREATED:20260210T083015Z
LAST-MODIFIED:20260210T083015Z
UID:2978-1771749000-1771752600@hatea.run
SUMMARY:February away run
DESCRIPTION:After a break for the summer holidays the Last Sunday of the Month Hatea away run is back. \nThis February we are meeting at the Pukenui Forest for a fun loop of the forest. \nJoin us for a social 8km trail run that is all about views and vibes. \nStarting from the car park at the end of Amalin drive at 8:30am \n  \n 
URL:https://hatea.run/event/february-away-run/
LOCATION:Pukenui Forest
END:VEVENT
BEGIN:VEVENT
DTSTART;TZID=Pacific/Auckland:20260225T173000
DTEND;TZID=Pacific/Auckland:20260225T190000
DTSTAMP:20260421T000125
CREATED:20260212T080154Z
LAST-MODIFIED:20260212T080641Z
UID:2984-1772040600-1772046000@hatea.run
SUMMARY:Summer Grand Prix Series Race #3
DESCRIPTION:Race 3 of the Summer Grand Prix Series \nCome along and run or race the 3rd event of the Grand Prix 5K Series for the year. This is a 5 week series with points accumulated per week and trophies at the end of the series awarded to the highest scores. \nFree for Hatea members. \n5$ Koha for non members \nRace start time: 6:00pm\nRegistration from 5:30pm
URL:https://hatea.run/event/summer-grand-prix-series-race-3/
LOCATION:Tikipunga Sports Park\, 48 Reed Street\, Tikipunga\, Northland\, 0110\, New Zealand
CATEGORIES:Hatea Grand Prix,Standalone Hatea Events
END:VEVENT
BEGIN:VEVENT
DTSTART;TZID=Pacific/Auckland:20260304T173000
DTEND;TZID=Pacific/Auckland:20260304T190000
DTSTAMP:20260421T000125
CREATED:20260212T080320Z
LAST-MODIFIED:20260212T080720Z
UID:2986-1772645400-1772650800@hatea.run
SUMMARY:Summer Grand Prix Series Race #4
DESCRIPTION:Race 4 of the Summer Grand Prix Series \nCome along and run or race the 4th event of the Grand Prix 5K Series for the year. This is a 5 week series with points accumulated per week and trophies at the end of the series awarded to the highest scores. \nFree for Hatea members. \n5$ Koha for non members \nRace start time: 6:00pm\nRegistration from 5:30pm
URL:https://hatea.run/event/summer-grand-prix-series-race-4/
LOCATION:Tikipunga Sports Park\, 48 Reed Street\, Tikipunga\, Northland\, 0110\, New Zealand
CATEGORIES:Hatea Grand Prix,Standalone Hatea Events
END:VEVENT
BEGIN:VEVENT
DTSTART;TZID=Pacific/Auckland:20260311T173000
DTEND;TZID=Pacific/Auckland:20260311T190000
DTSTAMP:20260421T000125
CREATED:20260212T080609Z
LAST-MODIFIED:20260212T080609Z
UID:2989-1773250200-1773255600@hatea.run
SUMMARY:Summer Grand Prix Series Race #5
DESCRIPTION:Race 5 of the Summer Grand Prix Series \nCome along and run or race the 5th and final event of the Grand Prix 5K Series for the year. This is a 5 week series with points accumulated per week and trophies at the end of the series awarded to the highest scores. \nFree for Hatea members. \n5$ Koha for non members \nRace start time: 6:00pm\nRegistration from 5:30pm
URL:https://hatea.run/event/summer-grand-prix-series-race-5/
LOCATION:Tikipunga Sports Park\, 48 Reed Street\, Tikipunga\, Northland\, 0110\, New Zealand
CATEGORIES:Hatea Grand Prix,Standalone Hatea Events
END:VEVENT
BEGIN:VEVENT
DTSTART;TZID=Pacific/Auckland:20260426T080000
DTEND;TZID=Pacific/Auckland:20260426T230000
DTSTAMP:20260421T000125
CREATED:20260331T080221Z
LAST-MODIFIED:20260331T080221Z
UID:3032-1777190400-1777244400@hatea.run
SUMMARY:April Away Run - Tangihua Forest
DESCRIPTION:Join us for Aprils away run in the Tangihua Forest.\nThere will be a “long loop” option and a “short loop” option available.\nThe trails are tough and technical so bring good trail shoes. \nStart time will be 8am
URL:https://hatea.run/event/april-away-run-tangihua-forest/
LOCATION:Tangihua Forest\, Omana Road\,\, Omana\, Northland\, 0193\, New Zealand
CATEGORIES:Standalone Hatea Events
END:VEVENT
END:VCALENDAR