BEGIN:VCALENDAR
VERSION:2.0
PRODID:-//Hātea Run - ECPv6.15.20//NONSGML v1.0//EN
CALSCALE:GREGORIAN
METHOD:PUBLISH
X-WR-CALNAME:Hātea Run
X-ORIGINAL-URL:https://hatea.run
X-WR-CALDESC:Events for Hātea Run
REFRESH-INTERVAL;VALUE=DURATION:PT1H
X-Robots-Tag:noindex
X-PUBLISHED-TTL:PT1H
BEGIN:VTIMEZONE
TZID:Pacific/Auckland
BEGIN:STANDARD
TZOFFSETFROM:+1300
TZOFFSETTO:+1200
TZNAME:NZST
DTSTART:20230401T140000
END:STANDARD
BEGIN:DAYLIGHT
TZOFFSETFROM:+1200
TZOFFSETTO:+1300
TZNAME:NZDT
DTSTART:20230923T140000
END:DAYLIGHT
BEGIN:STANDARD
TZOFFSETFROM:+1300
TZOFFSETTO:+1200
TZNAME:NZST
DTSTART:20240406T140000
END:STANDARD
BEGIN:DAYLIGHT
TZOFFSETFROM:+1200
TZOFFSETTO:+1300
TZNAME:NZDT
DTSTART:20240928T140000
END:DAYLIGHT
BEGIN:STANDARD
TZOFFSETFROM:+1300
TZOFFSETTO:+1200
TZNAME:NZST
DTSTART:20250405T140000
END:STANDARD
BEGIN:DAYLIGHT
TZOFFSETFROM:+1200
TZOFFSETTO:+1300
TZNAME:NZDT
DTSTART:20250927T140000
END:DAYLIGHT
END:VTIMEZONE
BEGIN:VEVENT
DTSTART;TZID=Pacific/Auckland:20240619T173000
DTEND;TZID=Pacific/Auckland:20240619T190000
DTSTAMP:20260426T043733
CREATED:20240604T071222Z
LAST-MODIFIED:20240604T071448Z
UID:2520-1718818200-1718823600@hatea.run
SUMMARY:The Spooky Chase 2024
DESCRIPTION:Spooky Chase 2024 is a handicap event and the first of our winter night trail series. The slowest runners start first with the fastest chasing them down. \nWhere?\n\nWe will meet at the Abbey Caves road mountain bike car park. \nWhat Time?\nRegistrations from 5.30pm\, give yourself plenty of time to register and get your start time.\nThe event starts at 5.55pm \nEntry Fee\nHatea Members – Free\nOthers – $2 Koha \nHealth & Safety\n\nBring a headlamp/Torch. No Light no Run.\nWear an item of Hi-Viz.\nConditions may be slippery\, you must wear appropriate footwear.\n\nThe Spooky Chase 2024 Course\n \nAll results will be published on our blog \nFeature image by Neven Krcmarek on Unsplash
URL:https://hatea.run/event/the-spooky-chase-2024/
LOCATION:Abbey Caves Rd mountain bike car park\, 45 Abbey Caves Road\, Whareora\, Northland\, 0175\, New Zealand
CATEGORIES:Night Series
ATTACH;FMTTYPE=image/jpeg:https://hatea.run/wp-content/uploads/2023/05/Spooky-Chase-2023-Neven-Krcmarek-Unsplash.jpg
END:VEVENT
END:VCALENDAR