BEGIN:VCALENDAR
VERSION:2.0
PRODID:-//Hātea Run - ECPv6.15.20//NONSGML v1.0//EN
CALSCALE:GREGORIAN
METHOD:PUBLISH
X-ORIGINAL-URL:https://hatea.run
X-WR-CALDESC:Events for Hātea Run
REFRESH-INTERVAL;VALUE=DURATION:PT1H
X-Robots-Tag:noindex
X-PUBLISHED-TTL:PT1H
BEGIN:VTIMEZONE
TZID:Pacific/Auckland
BEGIN:STANDARD
TZOFFSETFROM:+1300
TZOFFSETTO:+1200
TZNAME:NZST
DTSTART:20240406T140000
END:STANDARD
BEGIN:DAYLIGHT
TZOFFSETFROM:+1200
TZOFFSETTO:+1300
TZNAME:NZDT
DTSTART:20240928T140000
END:DAYLIGHT
BEGIN:STANDARD
TZOFFSETFROM:+1300
TZOFFSETTO:+1200
TZNAME:NZST
DTSTART:20250405T140000
END:STANDARD
BEGIN:DAYLIGHT
TZOFFSETFROM:+1200
TZOFFSETTO:+1300
TZNAME:NZDT
DTSTART:20250927T140000
END:DAYLIGHT
BEGIN:STANDARD
TZOFFSETFROM:+1300
TZOFFSETTO:+1200
TZNAME:NZST
DTSTART:20260404T140000
END:STANDARD
BEGIN:DAYLIGHT
TZOFFSETFROM:+1200
TZOFFSETTO:+1300
TZNAME:NZDT
DTSTART:20260926T140000
END:DAYLIGHT
END:VTIMEZONE
BEGIN:VEVENT
DTSTART;TZID=Pacific/Auckland:20251130T090000
DTEND;TZID=Pacific/Auckland:20251130T223000
DTSTAMP:20260425T042248
CREATED:20251031T074729Z
LAST-MODIFIED:20251031T074949Z
UID:2937-1764493200-1764541800@hatea.run
SUMMARY:End of the Month Away Run
DESCRIPTION:🏃‍♀️ Waipu Coastal Walkway Run – November Meetup 🏃‍♂️ \nThis month\, we’re heading to the beautiful Waipu Coastal Walkway\, starting from Waipu Cove.It’s a stunning coastal run from Waipu Cove through to Langs Beach\, returning along the same path. \nThe full out-and-back route is 5 km\, with a small section of rock hopping across the “pancake rocks.”For those keen to go a bit further\, there’s also the option to continue on the Cove to Waipu Trail. \n🕘 Start Time: 9:00 AM☕ Coffee after: The Cove Café \nCome along for a scenic run\, great company\, and a well-earned coffee at the end! \nThis will be the last away run for the year. We’ll be returning after the summer break to some new trails in February.
URL:https://hatea.run/event/end-of-the-month-away-run/
LOCATION:Waipu Cove\, Waipū Coastal Walkway\, Waipu\, Northland\, 0582\, New Zealand
END:VEVENT
END:VCALENDAR