BEGIN:VCALENDAR
VERSION:2.0
PRODID:-//Hātea Run - ECPv6.15.20//NONSGML v1.0//EN
CALSCALE:GREGORIAN
METHOD:PUBLISH
X-WR-CALNAME:Hātea Run
X-ORIGINAL-URL:https://hatea.run
X-WR-CALDESC:Events for Hātea Run
REFRESH-INTERVAL;VALUE=DURATION:PT1H
X-Robots-Tag:noindex
X-PUBLISHED-TTL:PT1H
BEGIN:VTIMEZONE
TZID:Pacific/Auckland
BEGIN:STANDARD
TZOFFSETFROM:+1300
TZOFFSETTO:+1200
TZNAME:NZST
DTSTART:20220402T140000
END:STANDARD
BEGIN:DAYLIGHT
TZOFFSETFROM:+1200
TZOFFSETTO:+1300
TZNAME:NZDT
DTSTART:20220924T140000
END:DAYLIGHT
BEGIN:STANDARD
TZOFFSETFROM:+1300
TZOFFSETTO:+1200
TZNAME:NZST
DTSTART:20230401T140000
END:STANDARD
BEGIN:DAYLIGHT
TZOFFSETFROM:+1200
TZOFFSETTO:+1300
TZNAME:NZDT
DTSTART:20230923T140000
END:DAYLIGHT
BEGIN:STANDARD
TZOFFSETFROM:+1300
TZOFFSETTO:+1200
TZNAME:NZST
DTSTART:20240406T140000
END:STANDARD
BEGIN:DAYLIGHT
TZOFFSETFROM:+1200
TZOFFSETTO:+1300
TZNAME:NZDT
DTSTART:20240928T140000
END:DAYLIGHT
END:VTIMEZONE
BEGIN:VEVENT
DTSTART;TZID=Pacific/Auckland:20230708T130000
DTEND;TZID=Pacific/Auckland:20230708T170000
DTSTAMP:20260422T173517
CREATED:20230630T082900Z
LAST-MODIFIED:20230630T083013Z
UID:2354-1688821200-1688835600@hatea.run
SUMMARY:Athletics Northland Cross Country Championship 2023
DESCRIPTION:The Athletics Northland Cross Country Championship is an event jointly organised by Hātea Run & Athletics Whangārei\, to be held at Barge Park. This event is for everyone\, no matter your age\, speed or experience. \nNorthland Cross Country Championship Distances & Course\nThe course is a marked and measured 2km loop. As such we will be allowing for people to run 2\, 4\, 6\, 8 and 10k distances. \nCategories\n\nUnder 12s – 1 lap\n13-18 – 2 laps\n19-25 – 3 laps\nOpen men – 5 laps\nOpen women – 4 laps\nMasters women (30+) – 3 laps\nMasters men (30+) – 4 laps\nWalkers – 1 or 2 laps (Entrants MUST walk\, if they are seen running they will be put in the running results)\n\n \nThe race starts at 2pm sharp\, so make sure you turn up with plenty of time to get registered and pay any entry fees. Last minute entries on the day have to be in by 1.15pm and race briefing is at 1.45pm. All distances start at the same time\, so it’s a mass start. You are responsible for keeping track of how many laps you have run. \nAt the finish you will be given a place token\, which you will need to give to the person correlating the results before leaving the finishing chute. Speak clearly when providing them with your name and chosen distance\, since they may not know who you are. \nThe official distances to be acknowledged as the fastest Northland runner\, are 8km for women and 10km for men. Women are welcome to run 10km if they wish. The winners of each distance will be acknowledged at during tea after 3pm. \nEntry Fee\nEntry is free for Hātea Run & Athletics Whangārei members and $7 per person for everyone else. Please can club members run in their club shirts on the day. \nTea & Biscuits will be provided to entrants by the clubs at Tiffanys cafe from 3pm. \nWhangārei Cross Country Venue
URL:https://hatea.run/event/athletics-northland-cross-country-championship-2023/
LOCATION:Barge Park\, 474 Maunu Road\, Maunu\, Whangārei\, Northland\, 0179\, New Zealand
CATEGORIES:Standalone Hatea Events
ATTACH;FMTTYPE=image/jpeg:https://hatea.run/wp-content/uploads/2022/06/Barge-Park-Showgrounds-Whangarei-Cross-Country.jpg
END:VEVENT
END:VCALENDAR