BEGIN:VCALENDAR
VERSION:2.0
PRODID:-//Hātea Run - ECPv6.15.20//NONSGML v1.0//EN
CALSCALE:GREGORIAN
METHOD:PUBLISH
X-WR-CALNAME:Hātea Run
X-ORIGINAL-URL:https://hatea.run
X-WR-CALDESC:Events for Hātea Run
REFRESH-INTERVAL;VALUE=DURATION:PT1H
X-Robots-Tag:noindex
X-PUBLISHED-TTL:PT1H
BEGIN:VTIMEZONE
TZID:Pacific/Auckland
BEGIN:STANDARD
TZOFFSETFROM:+1300
TZOFFSETTO:+1200
TZNAME:NZST
DTSTART:20210403T140000
END:STANDARD
BEGIN:DAYLIGHT
TZOFFSETFROM:+1200
TZOFFSETTO:+1300
TZNAME:NZDT
DTSTART:20210925T140000
END:DAYLIGHT
BEGIN:STANDARD
TZOFFSETFROM:+1300
TZOFFSETTO:+1200
TZNAME:NZST
DTSTART:20220402T140000
END:STANDARD
BEGIN:DAYLIGHT
TZOFFSETFROM:+1200
TZOFFSETTO:+1300
TZNAME:NZDT
DTSTART:20220924T140000
END:DAYLIGHT
BEGIN:STANDARD
TZOFFSETFROM:+1300
TZOFFSETTO:+1200
TZNAME:NZST
DTSTART:20230401T140000
END:STANDARD
BEGIN:DAYLIGHT
TZOFFSETFROM:+1200
TZOFFSETTO:+1300
TZNAME:NZDT
DTSTART:20230923T140000
END:DAYLIGHT
END:VTIMEZONE
BEGIN:VEVENT
DTSTART;TZID=Pacific/Auckland:20220515T090000
DTEND;TZID=Pacific/Auckland:20220515T150000
DTSTAMP:20260424T121828
CREATED:20220425T101049Z
LAST-MODIFIED:20220430T102800Z
UID:1280-1652605200-1652626800@hatea.run
SUMMARY:Parihaka Kill Hill 2022
DESCRIPTION:Parihaka Kill Hill Event Information\nAfter a 2 year Covid induced break Hātea Run’s 6 hour endurance challenge is back! To take on the Parihaka Kill Hill\, you may run solo or create a team. \nThe Course\nIt’s simple: run to the top of Mount Parihaka via the Drummond Track\, then return back to the bridge in Mair Park via the Dobbie Track. And again. And again. And again. And again?  \nStatistics\n\n2.4km per loop\n230m per loop\n\nEssential Race Information\n\nStart Time – 9am\, ensure you are there early to register and get your name on the whiteboard\nAid Stations: There are none\, you sort yourselves out and carry a cell phone.\nStart/finish: Next to the bridge in Mair Park.\nSupport: Hatea Harriers tent at the start/finish for your gear.\nCost: Hatea Harriers members free\, all others the koha tin will be there\, pay what you feel is right.\n\nCourse records:\n\nMens – David Nielsen – 13 laps (06/12/2020)\nWomens – Katie Adam – 12 laps (06/12/2020)
URL:https://hatea.run/event/parihaka-kill-hill-2022/
LOCATION:Dobbies Park\, Whangarei\, New Zealand
CATEGORIES:Standalone Hatea Events
ATTACH;FMTTYPE=image/png:https://hatea.run/wp-content/uploads/2022/04/Kill-Hill-Feature-Image.png
END:VEVENT
END:VCALENDAR