BEGIN:VCALENDAR
VERSION:2.0
PRODID:-//Hātea Run - ECPv6.15.20//NONSGML v1.0//EN
CALSCALE:GREGORIAN
METHOD:PUBLISH
X-ORIGINAL-URL:https://hatea.run
X-WR-CALDESC:Events for Hātea Run
REFRESH-INTERVAL;VALUE=DURATION:PT1H
X-Robots-Tag:noindex
X-PUBLISHED-TTL:PT1H
BEGIN:VTIMEZONE
TZID:Pacific/Auckland
BEGIN:STANDARD
TZOFFSETFROM:+1300
TZOFFSETTO:+1200
TZNAME:NZST
DTSTART:20210403T140000
END:STANDARD
BEGIN:DAYLIGHT
TZOFFSETFROM:+1200
TZOFFSETTO:+1300
TZNAME:NZDT
DTSTART:20210925T140000
END:DAYLIGHT
BEGIN:STANDARD
TZOFFSETFROM:+1300
TZOFFSETTO:+1200
TZNAME:NZST
DTSTART:20220402T140000
END:STANDARD
BEGIN:DAYLIGHT
TZOFFSETFROM:+1200
TZOFFSETTO:+1300
TZNAME:NZDT
DTSTART:20220924T140000
END:DAYLIGHT
BEGIN:STANDARD
TZOFFSETFROM:+1300
TZOFFSETTO:+1200
TZNAME:NZST
DTSTART:20230401T140000
END:STANDARD
BEGIN:DAYLIGHT
TZOFFSETFROM:+1200
TZOFFSETTO:+1300
TZNAME:NZDT
DTSTART:20230923T140000
END:DAYLIGHT
END:VTIMEZONE
BEGIN:VEVENT
DTSTART;TZID=Pacific/Auckland:20220622T173000
DTEND;TZID=Pacific/Auckland:20220622T190000
DTSTAMP:20260424T105140
CREATED:20220616T091239Z
LAST-MODIFIED:20230528T054603Z
UID:1740-1655919000-1655924400@hatea.run
SUMMARY:The Longest Night Spooky Chase 2022
DESCRIPTION:Spooky Chase 2022 is a handicap event and the first of our winter night trail series\, held on the longest night of the year. The slowest runners start first with the fastest chasing them down. \nWhere?\n\nWe will meet at the Abbey Caves road mountain bike car park. \nWhat Time?\nRegistrations from 5.30pm\nThe event starts at 6.00pm \nEntry Fee\nHatea Members – Free\nOthers – $2 Koha \nHealth & Safety\n\nBring a headlamp/Torch. No Light no Run.\nWear an item of Hi-Viz.\nConditions may be slippery\, you must wear appropriate footwear.\n\nThe Spooky Chase Course\n \nAll results will be published on our blog
URL:https://hatea.run/event/the-longest-night-spooky-chase-2022/
LOCATION:Abbey Caves Rd mountain bike car park\, 45 Abbey Caves Road\, Whareora\, Northland\, 0175\, New Zealand
CATEGORIES:Night Series
ATTACH;FMTTYPE=image/png:https://hatea.run/wp-content/uploads/2022/06/The-Longest-Night-Spooky-Chase-Course.png
END:VEVENT
BEGIN:VEVENT
DTSTART;TZID=Pacific/Auckland:20220629T173000
DTEND;TZID=Pacific/Auckland:20220629T190000
DTSTAMP:20260424T105140
CREATED:20220616T205506Z
LAST-MODIFIED:20220617T093858Z
UID:1896-1656523800-1656529200@hatea.run
SUMMARY:2022 Night Series Race 2
DESCRIPTION:For the 2nd race of the Hātea Run 2022 Night Series\, we head up to Tikipunga to run an out and back course through the park and along the Hātea river. \nWhere?\n\nWe will meet at the Tikipunga Sports Park. \nWhat Time?\nRegistrations from 5.30pm\nThe event starts at 6.00pm \nEntry Fee\nHatea Members – Free\nOthers – $2 Koha \nHealth & Safety\n\nBring a headlamp/Torch. No Light no Run.\nWear an item of Hi-Viz.\nConditions may be slippery\, you must wear appropriate footwear.\n\nThe 2022 Night Series Race 2 Course\n \nAll results will be published on our blog
URL:https://hatea.run/event/2022-night-series-race-2/
LOCATION:Tikipunga Sports Park\, 48 Reed Street\, Tikipunga\, Northland\, 0110\, New Zealand
CATEGORIES:Night Series
ATTACH;FMTTYPE=image/png:https://hatea.run/wp-content/uploads/2022/06/Tikipunga-Sports-Park-course..png
END:VEVENT
END:VCALENDAR