BEGIN:VCALENDAR
VERSION:2.0
PRODID:-//Hātea Run - ECPv6.15.20//NONSGML v1.0//EN
CALSCALE:GREGORIAN
METHOD:PUBLISH
X-WR-CALNAME:Hātea Run
X-ORIGINAL-URL:https://hatea.run
X-WR-CALDESC:Events for Hātea Run
REFRESH-INTERVAL;VALUE=DURATION:PT1H
X-Robots-Tag:noindex
X-PUBLISHED-TTL:PT1H
BEGIN:VTIMEZONE
TZID:Pacific/Auckland
BEGIN:STANDARD
TZOFFSETFROM:+1300
TZOFFSETTO:+1200
TZNAME:NZST
DTSTART:20210403T140000
END:STANDARD
BEGIN:DAYLIGHT
TZOFFSETFROM:+1200
TZOFFSETTO:+1300
TZNAME:NZDT
DTSTART:20210925T140000
END:DAYLIGHT
BEGIN:STANDARD
TZOFFSETFROM:+1300
TZOFFSETTO:+1200
TZNAME:NZST
DTSTART:20220402T140000
END:STANDARD
BEGIN:DAYLIGHT
TZOFFSETFROM:+1200
TZOFFSETTO:+1300
TZNAME:NZDT
DTSTART:20220924T140000
END:DAYLIGHT
BEGIN:STANDARD
TZOFFSETFROM:+1300
TZOFFSETTO:+1200
TZNAME:NZST
DTSTART:20230401T140000
END:STANDARD
BEGIN:DAYLIGHT
TZOFFSETFROM:+1200
TZOFFSETTO:+1300
TZNAME:NZDT
DTSTART:20230923T140000
END:DAYLIGHT
END:VTIMEZONE
BEGIN:VEVENT
DTSTART;TZID=Pacific/Auckland:20220706T173000
DTEND;TZID=Pacific/Auckland:20220706T190000
DTSTAMP:20260424T091001
CREATED:20220617T081607Z
LAST-MODIFIED:20220617T221658Z
UID:1913-1657128600-1657134000@hatea.run
SUMMARY:2022 Night Series Race 3
DESCRIPTION:For the 3rd race of the Hātea Run 2022 Night Series\, we start from Whangārei Falls car park. Then down the switchback past the falls and along Hātea river\, once we reach A H Reed Memorial Park\, we run around a quick loop then back along the river to finish with a nuggety push up the switchback. \nWhere?\n\nWe will meet at Whangārei Falls car park. \nWhat Time?\nRegistrations from 5.30pm\nThe event starts at 6.00pm \nEntry Fee\nHatea Members – Free\nOthers – $2 Koha \nHealth & Safety\n\nBring a headlamp/Torch. No Light no Run.\nWear an item of Hi-Viz.\nConditions may be slippery\, you must wear appropriate footwear.\n\nThe 2022 Night Series Race 3 Course\n \nAll results will be published on our blog
URL:https://hatea.run/event/2022-night-series-race-3/
LOCATION:Whangarei Falls car park\, Boundary Road\, Tikipunga\, Northland\, 0110\, New Zealand
CATEGORIES:Night Series
ATTACH;FMTTYPE=image/png:https://hatea.run/wp-content/uploads/2022/06/Whangarei-Falls-A-H-Reed-loop-course..png
END:VEVENT
BEGIN:VEVENT
DTSTART;TZID=Pacific/Auckland:20220713T173000
DTEND;TZID=Pacific/Auckland:20220713T190000
DTSTAMP:20260424T091001
CREATED:20220617T082123Z
LAST-MODIFIED:20220617T093935Z
UID:1917-1657733400-1657738800@hatea.run
SUMMARY:2022 Night Series Race 4
DESCRIPTION:For the 4th race of the Hātea Run 2022 Night Series\, we start from Mair Park. We run down to the river\, past the ducks then turn right after we have crossed the bridge. Continue to the shoe cleaning station at Vale road\, then return back along the trail until you reach Whareora road. Return back along the trail to the start line for the finish. \nWhere?\n\nWe will meet at Mair Park. \nWhat Time?\nRegistrations from 5.30pm\nThe event starts at 6.00pm \nEntry Fee\nHatea Members – Free\nOthers – $2 Koha \nHealth & Safety\n\nBring a headlamp/Torch. No Light no Run.\nWear an item of Hi-Viz.\nConditions may be slippery\, you must wear appropriate footwear.\n\nThe 2022 Night Series Race 4 Course\nLined with trees\, featuring a few short but punchy climbs\, this makes for a fun trail where runners sporting some LED’s or glow sticks will create quite the spectacle. \n \nAll results will be published on our blog
URL:https://hatea.run/event/2022-night-series-race-4/
LOCATION:Mair Park\, Rurumoki Street\, Regent\, Whangārei\, Northland\, 0112\, New Zealand
CATEGORIES:Night Series
ATTACH;FMTTYPE=image/png:https://hatea.run/wp-content/uploads/2022/06/Mair-Park-Night-Series-T-Course.png
END:VEVENT
BEGIN:VEVENT
DTSTART;TZID=Pacific/Auckland:20220716T133000
DTEND;TZID=Pacific/Auckland:20220716T160000
DTSTAMP:20260424T091001
CREATED:20220617T225309Z
LAST-MODIFIED:20220713T111507Z
UID:2013-1657978200-1657987200@hatea.run
SUMMARY:Whangārei Cross Country Combined Clubs 2022
DESCRIPTION:The Whangārei Combined Clubs Cross Country is an event jointly organised by Hātea Run & Athletics Whangārei\, to be held at Barge Park. This event is for everyone\, no matter your age\, speed or experience. \nDistances & Course\nThe course is a marked and measure 2km loop. As such we will be allowing for people to run 2\, 4\, 6\, 8 and 10k distances. \n \nThe race starts at 2pm sharp\, so make sure you turn up with plenty of time to get registered and pay any entry fees. All distances start at the same time\, so it’s a mass start. You are responsible for keeping track of how many laps you have run. \nAt the finish you will be given a place token\, which you will need to give to the person correlating the results before leaving the finishing chute. Speak clearly when providing them with your name and chosen distance\, since they may not know who you are. \nThe official distances to be acknowledged as the fastest Northland runner\, are 6km for women and 10km for men. Women are welcome to run 10km if they wish. The winners of each distance will be acknowledged at during tea after 3pm. \nEntry Fee\nEntry is free for Hātea Run & Athletics Whangārei members and $5 per person for everyone else. \nTea & Biscuits will be provided to entrants by the clubs at Tiffanys cafe from 3pm. \nWhangārei Cross Country Venue
URL:https://hatea.run/event/whangarei-combined-clubs-cross-country-2022/
LOCATION:Barge Park\, 474 Maunu Road\, Maunu\, Whangārei\, Northland\, 0179\, New Zealand
CATEGORIES:Standalone Hatea Events
ATTACH;FMTTYPE=image/jpeg:https://hatea.run/wp-content/uploads/2022/06/Barge-Park-Showgrounds-Whangarei-Cross-Country.jpg
END:VEVENT
BEGIN:VEVENT
DTSTART;TZID=Pacific/Auckland:20220720T173000
DTEND;TZID=Pacific/Auckland:20220720T190000
DTSTAMP:20260424T091001
CREATED:20220617T090046Z
LAST-MODIFIED:20230528T063420Z
UID:1928-1658338200-1658343600@hatea.run
SUMMARY:The 2022 Downhill Flying Kilometer
DESCRIPTION:For the 5th race of the Hātea Run 2022 Night Series\, we start at the top of the shared path on Jack Street. It’s a full bore blast on a slight decline\, along a concrete surface for a single kilometer. As the final race in the Night Series\, it’s the time to lay it all out and blow your lungs out on the finish line! Don’t miss out on the free PIZZA at Frings after the event. \nWhere?\n We will meet at the entrance to the shared path on Jack Street. \nWhat Time?\nRegistrations from 5.30pm The event starts at 6.00pm \nEntry Fee\nHatea Members – Free Others – $2 Koha \nHealth & Safety\n\nBring a headlamp/Torch. No Light no Run.\nWear an item of Hi-Viz.\nConditions may be slippery\, you must wear appropriate footwear.\n\nThe 2022 Downhill Flying Kilometer Course\n All results will be published on our blog
URL:https://hatea.run/event/the-2022-downhill-flying-kilometer/
LOCATION:Jack Street\, 63 Jack Street\, Whangarei\, Northland\, 0112\, New Zealand
CATEGORIES:Night Series
ATTACH;FMTTYPE=image/png:https://hatea.run/wp-content/uploads/2022/06/2022-Downhill-Flying-Kilometer-Course.png
END:VEVENT
END:VCALENDAR