BEGIN:VCALENDAR
VERSION:2.0
PRODID:-//Hātea Run - ECPv6.15.20//NONSGML v1.0//EN
CALSCALE:GREGORIAN
METHOD:PUBLISH
X-ORIGINAL-URL:https://hatea.run
X-WR-CALDESC:Events for Hātea Run
REFRESH-INTERVAL;VALUE=DURATION:PT1H
X-Robots-Tag:noindex
X-PUBLISHED-TTL:PT1H
BEGIN:VTIMEZONE
TZID:Pacific/Auckland
BEGIN:STANDARD
TZOFFSETFROM:+1300
TZOFFSETTO:+1200
TZNAME:NZST
DTSTART:20210403T140000
END:STANDARD
BEGIN:DAYLIGHT
TZOFFSETFROM:+1200
TZOFFSETTO:+1300
TZNAME:NZDT
DTSTART:20210925T140000
END:DAYLIGHT
BEGIN:STANDARD
TZOFFSETFROM:+1300
TZOFFSETTO:+1200
TZNAME:NZST
DTSTART:20220402T140000
END:STANDARD
BEGIN:DAYLIGHT
TZOFFSETFROM:+1200
TZOFFSETTO:+1300
TZNAME:NZDT
DTSTART:20220924T140000
END:DAYLIGHT
BEGIN:STANDARD
TZOFFSETFROM:+1300
TZOFFSETTO:+1200
TZNAME:NZST
DTSTART:20230401T140000
END:STANDARD
BEGIN:DAYLIGHT
TZOFFSETFROM:+1200
TZOFFSETTO:+1300
TZNAME:NZDT
DTSTART:20230923T140000
END:DAYLIGHT
END:VTIMEZONE
BEGIN:VEVENT
DTSTART;TZID=Pacific/Auckland:20220706T173000
DTEND;TZID=Pacific/Auckland:20220706T190000
DTSTAMP:20260424T105307
CREATED:20220617T081607Z
LAST-MODIFIED:20220617T221658Z
UID:1913-1657128600-1657134000@hatea.run
SUMMARY:2022 Night Series Race 3
DESCRIPTION:For the 3rd race of the Hātea Run 2022 Night Series\, we start from Whangārei Falls car park. Then down the switchback past the falls and along Hātea river\, once we reach A H Reed Memorial Park\, we run around a quick loop then back along the river to finish with a nuggety push up the switchback. \nWhere?\n\nWe will meet at Whangārei Falls car park. \nWhat Time?\nRegistrations from 5.30pm\nThe event starts at 6.00pm \nEntry Fee\nHatea Members – Free\nOthers – $2 Koha \nHealth & Safety\n\nBring a headlamp/Torch. No Light no Run.\nWear an item of Hi-Viz.\nConditions may be slippery\, you must wear appropriate footwear.\n\nThe 2022 Night Series Race 3 Course\n \nAll results will be published on our blog
URL:https://hatea.run/event/2022-night-series-race-3/
LOCATION:Whangarei Falls car park\, Boundary Road\, Tikipunga\, Northland\, 0110\, New Zealand
CATEGORIES:Night Series
ATTACH;FMTTYPE=image/png:https://hatea.run/wp-content/uploads/2022/06/Whangarei-Falls-A-H-Reed-loop-course..png
END:VEVENT
END:VCALENDAR