BEGIN:VCALENDAR
VERSION:2.0
PRODID:-//Hātea Run - ECPv6.15.20//NONSGML v1.0//EN
CALSCALE:GREGORIAN
METHOD:PUBLISH
X-ORIGINAL-URL:https://hatea.run
X-WR-CALDESC:Events for Hātea Run
REFRESH-INTERVAL;VALUE=DURATION:PT1H
X-Robots-Tag:noindex
X-PUBLISHED-TTL:PT1H
BEGIN:VTIMEZONE
TZID:Pacific/Auckland
BEGIN:STANDARD
TZOFFSETFROM:+1300
TZOFFSETTO:+1200
TZNAME:NZST
DTSTART:20240406T140000
END:STANDARD
BEGIN:DAYLIGHT
TZOFFSETFROM:+1200
TZOFFSETTO:+1300
TZNAME:NZDT
DTSTART:20240928T140000
END:DAYLIGHT
BEGIN:STANDARD
TZOFFSETFROM:+1300
TZOFFSETTO:+1200
TZNAME:NZST
DTSTART:20250405T140000
END:STANDARD
BEGIN:DAYLIGHT
TZOFFSETFROM:+1200
TZOFFSETTO:+1300
TZNAME:NZDT
DTSTART:20250927T140000
END:DAYLIGHT
BEGIN:STANDARD
TZOFFSETFROM:+1300
TZOFFSETTO:+1200
TZNAME:NZST
DTSTART:20260404T140000
END:STANDARD
BEGIN:DAYLIGHT
TZOFFSETFROM:+1200
TZOFFSETTO:+1300
TZNAME:NZDT
DTSTART:20260926T140000
END:DAYLIGHT
END:VTIMEZONE
BEGIN:VEVENT
DTSTART;TZID=Pacific/Auckland:20250618T173000
DTEND;TZID=Pacific/Auckland:20250618T190000
DTSTAMP:20260422T084617
CREATED:20250307T023631Z
LAST-MODIFIED:20250324T080332Z
UID:2772-1750267800-1750273200@hatea.run
SUMMARY:The Spooky Chase 2025
DESCRIPTION:Spooky Chase 2025 is a handicap event and the first of our winter night trail series\, held on the longest night of the year. The slowest runners start first with the fastest chasing them down. \nWhere?\nWe will meet at the Abbey Caves road mountain bike car park. \nWhat Time?\nRegistrations from 5.30pmThe event starts at 6.00pm \nEntry Fee\nHatea Members – FreeOthers – $5 Koha \nHealth & Safety\n\nBring a headlamp/Torch. No Light no Run.\nWear an item of Hi-Viz.\nConditions may be slippery\, you must wear appropriate footwear.\n\nThe Spooky Chase Course\n \nAll results will be published on our blog
URL:https://hatea.run/event/spookychase2025/
LOCATION:Abbey Caves Rd mountain bike car park\, 45 Abbey Caves Road\, Whareora\, Northland\, 0175\, New Zealand
CATEGORIES:Night Series
ATTACH;FMTTYPE=image/png:https://hatea.run/wp-content/uploads/2022/06/The-Longest-Night-Spooky-Chase-Course.png
END:VEVENT
END:VCALENDAR