BEGIN:VCALENDAR
VERSION:2.0
PRODID:-//Hātea Run - ECPv6.15.20//NONSGML v1.0//EN
CALSCALE:GREGORIAN
METHOD:PUBLISH
X-ORIGINAL-URL:https://hatea.run
X-WR-CALDESC:Events for Hātea Run
REFRESH-INTERVAL;VALUE=DURATION:PT1H
X-Robots-Tag:noindex
X-PUBLISHED-TTL:PT1H
BEGIN:VTIMEZONE
TZID:Pacific/Auckland
BEGIN:STANDARD
TZOFFSETFROM:+1300
TZOFFSETTO:+1200
TZNAME:NZST
DTSTART:20240406T140000
END:STANDARD
BEGIN:DAYLIGHT
TZOFFSETFROM:+1200
TZOFFSETTO:+1300
TZNAME:NZDT
DTSTART:20240928T140000
END:DAYLIGHT
BEGIN:STANDARD
TZOFFSETFROM:+1300
TZOFFSETTO:+1200
TZNAME:NZST
DTSTART:20250405T140000
END:STANDARD
BEGIN:DAYLIGHT
TZOFFSETFROM:+1200
TZOFFSETTO:+1300
TZNAME:NZDT
DTSTART:20250927T140000
END:DAYLIGHT
BEGIN:STANDARD
TZOFFSETFROM:+1300
TZOFFSETTO:+1200
TZNAME:NZST
DTSTART:20260404T140000
END:STANDARD
BEGIN:DAYLIGHT
TZOFFSETFROM:+1200
TZOFFSETTO:+1300
TZNAME:NZDT
DTSTART:20260926T140000
END:DAYLIGHT
END:VTIMEZONE
BEGIN:VEVENT
DTSTART;TZID=Pacific/Auckland:20250702T173000
DTEND;TZID=Pacific/Auckland:20250702T190000
DTSTAMP:20260422T072347
CREATED:20240604T072526Z
LAST-MODIFIED:20250324T081348Z
UID:2527-1751477400-1751482800@hatea.run
SUMMARY:Mair Park Whareora Vale Trifecta Night Race 2025
DESCRIPTION:For the 3rd race of the Hātea Run 2025 Night Series\, we start from Mair Park. After running down to the river\, past the ducks\, we turn right after crossing the bridge. Continue to the shoe cleaning station at Vale road\, then return back along the trail until you reach Whareora road. Finally\, sprint back along the trail\, sending high-fives and whoops all the way back to the start for that sweet sweet finish line. \nWhere?\n\nWe will meet at Mair Park. \nWhat Time?\nRegistrations from 5.30pm\nThe event starts at 6.00pm \nEntry Fee\nHatea Members – Free\nOthers – $5 Koha \nHealth & Safety\n\nBring a headlamp/Torch. No Light no Run.\nWear an item of Hi-Viz.\nConditions may be slippery\, you must wear appropriate footwear.\n\nThe Mair Park Whareora Vale Trifecta Night Race 2025 Course\nLined with trees\, featuring a few short but punchy climbs\, this makes for a fun trail where runners sporting some LED’s or glow sticks will create quite the spectacle. \n \nAll results will be published on our blog
URL:https://hatea.run/event/mair-park-whareora-vale-trifecta-night-race-2025/
LOCATION:Mair Park\, Rurumoki Street\, Regent\, Whangārei\, Northland\, 0112\, New Zealand
CATEGORIES:Night Series
ATTACH;FMTTYPE=image/jpeg:https://hatea.run/wp-content/uploads/2023/05/Whangarei-Aquatic-Center-to-Whareora-Return.jpg
END:VEVENT
END:VCALENDAR